BEGIN:VCALENDAR
VERSION:2.0
PRODID:-//Bible Baptist Church of Utica - ECPv6.8.3//NONSGML v1.0//EN
CALSCALE:GREGORIAN
METHOD:PUBLISH
X-WR-CALNAME:Bible Baptist Church of Utica
X-ORIGINAL-URL:https://staging.biblebaptistutica.org
X-WR-CALDESC:Events for Bible Baptist Church of Utica
REFRESH-INTERVAL;VALUE=DURATION:PT1H
X-Robots-Tag:noindex
X-PUBLISHED-TTL:PT1H
BEGIN:VTIMEZONE
TZID:America/Chicago
BEGIN:DAYLIGHT
TZOFFSETFROM:-0600
TZOFFSETTO:-0500
TZNAME:CDT
DTSTART:20210314T080000
END:DAYLIGHT
BEGIN:STANDARD
TZOFFSETFROM:-0500
TZOFFSETTO:-0600
TZNAME:CST
DTSTART:20211107T070000
END:STANDARD
BEGIN:DAYLIGHT
TZOFFSETFROM:-0600
TZOFFSETTO:-0500
TZNAME:CDT
DTSTART:20220313T080000
END:DAYLIGHT
BEGIN:STANDARD
TZOFFSETFROM:-0500
TZOFFSETTO:-0600
TZNAME:CST
DTSTART:20221106T070000
END:STANDARD
END:VTIMEZONE
BEGIN:VEVENT
DTSTART;TZID=America/Chicago:20220511T190000
DTEND;TZID=America/Chicago:20220511T203000
DTSTAMP:20260425T111209
CREATED:20220429T182552Z
LAST-MODIFIED:20220429T182552Z
UID:26455-1652295600-1652301000@staging.biblebaptistutica.org
SUMMARY:Ladies Bible Study/Helpmates Meeting
DESCRIPTION:
URL:https://staging.biblebaptistutica.org/event/ladies-bible-study-helpmates-meeting-3/
END:VEVENT
BEGIN:VEVENT
DTSTART;TZID=America/Chicago:20220509T183000
DTEND;TZID=America/Chicago:20220509T203000
DTSTAMP:20260425T111209
CREATED:20220429T182804Z
LAST-MODIFIED:20220429T182804Z
UID:26459-1652121000-1652128200@staging.biblebaptistutica.org
SUMMARY:Ladies Spring Banquet
DESCRIPTION:Theme: Choose Joy\nTime: 6:30 pm\nSpeaker: Mrs. Miriam Marriott\nCome for a meal\, games\, singing\, and a time in God’s Word.
URL:https://staging.biblebaptistutica.org/event/ladies-spring-banquet-3/
END:VEVENT
BEGIN:VEVENT
DTSTART;VALUE=DATE:20220413
DTEND;VALUE=DATE:20220414
DTSTAMP:20260425T111209
CREATED:20220221T185330Z
LAST-MODIFIED:20220221T185330Z
UID:26420-1649808000-1649894399@staging.biblebaptistutica.org
SUMMARY:Ladies Bible Study/Helpmates Meeting
DESCRIPTION:
URL:https://staging.biblebaptistutica.org/event/ladies-bible-study-helpmates-meeting-2/
END:VEVENT
BEGIN:VEVENT
DTSTART;VALUE=DATE:20220408
DTEND;VALUE=DATE:20220410
DTSTAMP:20260425T111209
CREATED:20220221T185247Z
LAST-MODIFIED:20220221T185247Z
UID:26418-1649376000-1649548799@staging.biblebaptistutica.org
SUMMARY:WFBC Ladies Retreat
DESCRIPTION:
URL:https://staging.biblebaptistutica.org/event/wfbc-ladies-retreat/
END:VEVENT
BEGIN:VEVENT
DTSTART;VALUE=DATE:20220318
DTEND;VALUE=DATE:20220321
DTSTAMP:20260425T111209
CREATED:20220221T185137Z
LAST-MODIFIED:20220221T185137Z
UID:26416-1647561600-1647820799@staging.biblebaptistutica.org
SUMMARY:Marriage and Family Conference
DESCRIPTION:Keynote Speaker – Aaron and Tina Wilson \nFriday –\n         7 pm Main Session\nSaturday –\n         9 am split session\n         10:30 am Main Session\n         12 pm – Take your wife out to eat\nSunday –\n         9 am main session\n         10 am Final Session \n*Childcare provided on Friday Night and Sunday Morning only*
URL:https://staging.biblebaptistutica.org/event/marriage-and-family-conference/
LOCATION:Bible Baptist Church of Utica\, 2095 County Rd W\, Stoughton\, WI\, 53589
END:VEVENT
BEGIN:VEVENT
DTSTART;VALUE=DATE:20220313
DTEND;VALUE=DATE:20220314
DTSTAMP:20260425T111209
CREATED:20220221T184743Z
LAST-MODIFIED:20220221T184743Z
UID:26414-1647129600-1647215999@staging.biblebaptistutica.org
SUMMARY:Church Potluck/Quarterly Meeting
DESCRIPTION:
URL:https://staging.biblebaptistutica.org/event/church-potluck-quarterly-meeting/
END:VEVENT
BEGIN:VEVENT
DTSTART;VALUE=DATE:20220309
DTEND;VALUE=DATE:20220310
DTSTAMP:20260425T111209
CREATED:20220221T184704Z
LAST-MODIFIED:20220221T185459Z
UID:26412-1646784000-1646870399@staging.biblebaptistutica.org
SUMMARY:Ladies Bible Study/Helpmates Meeting
DESCRIPTION:
URL:https://staging.biblebaptistutica.org/event/ladies-bible-study-helpmates-meeting/
END:VEVENT
BEGIN:VEVENT
DTSTART;TZID=America/Chicago:20220226T090000
DTEND;TZID=America/Chicago:20220226T160000
DTSTAMP:20260425T111209
CREATED:20220221T184550Z
LAST-MODIFIED:20220221T184550Z
UID:26408-1645866000-1645891200@staging.biblebaptistutica.org
SUMMARY:WI State Youth Conference
DESCRIPTION:
URL:https://staging.biblebaptistutica.org/event/wi-state-youth-conference/
LOCATION:Calvary Baptist Church – Watertown\, 792 Milford St\, Watertown\, WI\, 53094\, United States
END:VEVENT
BEGIN:VEVENT
DTSTART;TZID=America/Chicago:20220226T090000
DTEND;TZID=America/Chicago:20220226T150000
DTSTAMP:20260425T111209
CREATED:20220221T184632Z
LAST-MODIFIED:20220221T184632Z
UID:26410-1645866000-1645887600@staging.biblebaptistutica.org
SUMMARY:Ladies IKEA Shopping Trip
DESCRIPTION:
URL:https://staging.biblebaptistutica.org/event/ladies-ikea-shopping-trip/
END:VEVENT
BEGIN:VEVENT
DTSTART;VALUE=DATE:20220109
DTEND;VALUE=DATE:20220110
DTSTAMP:20260425T111209
CREATED:20211210T154942Z
LAST-MODIFIED:20211210T154942Z
UID:26366-1641686400-1641772799@staging.biblebaptistutica.org
SUMMARY:Missionary Sunday
DESCRIPTION:
URL:https://staging.biblebaptistutica.org/event/missionary-sunday-5/
END:VEVENT
BEGIN:VEVENT
DTSTART;VALUE=DATE:20211224
DTEND;VALUE=DATE:20211225
DTSTAMP:20260425T111209
CREATED:20211210T154913Z
LAST-MODIFIED:20211210T154913Z
UID:26364-1640304000-1640390399@staging.biblebaptistutica.org
SUMMARY:Christmas Eve Service - 6 pm
DESCRIPTION:
URL:https://staging.biblebaptistutica.org/event/christmas-eve-service-6-pm/
END:VEVENT
BEGIN:VEVENT
DTSTART;VALUE=DATE:20211222
DTEND;VALUE=DATE:20211223
DTSTAMP:20260425T111209
CREATED:20211210T154836Z
LAST-MODIFIED:20211210T154836Z
UID:26362-1640131200-1640217599@staging.biblebaptistutica.org
SUMMARY:No Wednesday Evening Church Services
DESCRIPTION:
URL:https://staging.biblebaptistutica.org/event/no-wednesday-evening-church-services/
END:VEVENT
BEGIN:VEVENT
DTSTART;VALUE=DATE:20211212
DTEND;VALUE=DATE:20211213
DTSTAMP:20260425T111209
CREATED:20210821T192740Z
LAST-MODIFIED:20210821T192740Z
UID:26284-1639267200-1639353599@staging.biblebaptistutica.org
SUMMARY:All Church Meeting
DESCRIPTION:
URL:https://staging.biblebaptistutica.org/event/all-church-meeting-4/
END:VEVENT
BEGIN:VEVENT
DTSTART;TZID=America/Chicago:20211205T170000
DTEND;TZID=America/Chicago:20211205T200000
DTSTAMP:20260425T111209
CREATED:20211022T174942Z
LAST-MODIFIED:20211022T174942Z
UID:26341-1638723600-1638734400@staging.biblebaptistutica.org
SUMMARY:Adult White Elephant Party
DESCRIPTION:
URL:https://staging.biblebaptistutica.org/event/adult-white-elephant-party-3/
END:VEVENT
BEGIN:VEVENT
DTSTART;TZID=America/Chicago:20211204T080000
DTEND;TZID=America/Chicago:20211204T100000
DTSTAMP:20260425T111209
CREATED:20210821T192709Z
LAST-MODIFIED:20210821T192709Z
UID:26282-1638604800-1638612000@staging.biblebaptistutica.org
SUMMARY:Men's Prayer Breakfast
DESCRIPTION:
URL:https://staging.biblebaptistutica.org/event/mens-prayer-breakfast-4/
END:VEVENT
BEGIN:VEVENT
DTSTART;TZID=America/Chicago:20211203T180000
DTEND;TZID=America/Chicago:20211203T210000
DTSTAMP:20260425T111209
CREATED:20211022T174841Z
LAST-MODIFIED:20211022T175059Z
UID:26339-1638554400-1638565200@staging.biblebaptistutica.org
SUMMARY:Ladies Game Night/Cookie Exchange
DESCRIPTION:6 pm at Katie’s House
URL:https://staging.biblebaptistutica.org/event/ladies-game-night-cookie-exchange/
END:VEVENT
BEGIN:VEVENT
DTSTART;VALUE=DATE:20211031
DTEND;VALUE=DATE:20211101
DTSTAMP:20260425T111209
CREATED:20211022T174744Z
LAST-MODIFIED:20211022T174744Z
UID:26337-1635638400-1635724799@staging.biblebaptistutica.org
SUMMARY:Dr. Marriot - MBU
DESCRIPTION:
URL:https://staging.biblebaptistutica.org/event/dr-marriot-mbu/
END:VEVENT
BEGIN:VEVENT
DTSTART;TZID=America/Chicago:20211023T130000
DTEND;TZID=America/Chicago:20211023T190000
DTSTAMP:20260425T111209
CREATED:20211022T174657Z
LAST-MODIFIED:20211022T174657Z
UID:26335-1634994000-1635015600@staging.biblebaptistutica.org
SUMMARY:Teen/Young Adult Corn Maze Activity
DESCRIPTION:
URL:https://staging.biblebaptistutica.org/event/teen-young-adult-corn-maze-activity/
END:VEVENT
BEGIN:VEVENT
DTSTART;VALUE=DATE:20211017
DTEND;VALUE=DATE:20211021
DTSTAMP:20260425T111209
CREATED:20210821T192531Z
LAST-MODIFIED:20210821T192531Z
UID:26278-1634428800-1634774399@staging.biblebaptistutica.org
SUMMARY:Evangelist Services with Eric Goetsch
DESCRIPTION:Sunday Services as Normal\nMonday – Wednesday at 7 pm
URL:https://staging.biblebaptistutica.org/event/evangelist-services-with-eric-goetsch/
END:VEVENT
BEGIN:VEVENT
DTSTART;VALUE=DATE:20210912
DTEND;VALUE=DATE:20210913
DTSTAMP:20260425T111209
CREATED:20210821T192412Z
LAST-MODIFIED:20210821T192412Z
UID:26276-1631404800-1631491199@staging.biblebaptistutica.org
SUMMARY:Annual All Church Meeting
DESCRIPTION:
URL:https://staging.biblebaptistutica.org/event/annual-all-church-meeting/
END:VEVENT
BEGIN:VEVENT
DTSTART;TZID=America/Chicago:20210908T190000
DTEND;TZID=America/Chicago:20210908T203000
DTSTAMP:20260425T111209
CREATED:20210821T192249Z
LAST-MODIFIED:20210821T192249Z
UID:26274-1631127600-1631133000@staging.biblebaptistutica.org
SUMMARY:Ladies Helpmates Annual Meeting
DESCRIPTION:
URL:https://staging.biblebaptistutica.org/event/ladies-helpmates-annual-meeting/
END:VEVENT
BEGIN:VEVENT
DTSTART;TZID=America/Chicago:20210904T080000
DTEND;TZID=America/Chicago:20210904T100000
DTSTAMP:20260425T111209
CREATED:20210821T192214Z
LAST-MODIFIED:20210821T192214Z
UID:26272-1630742400-1630749600@staging.biblebaptistutica.org
SUMMARY:Men's Prayer Breakfast
DESCRIPTION:
URL:https://staging.biblebaptistutica.org/event/mens-prayer-breakfast-3/
END:VEVENT
BEGIN:VEVENT
DTSTART;VALUE=DATE:20210829
DTEND;VALUE=DATE:20210830
DTSTAMP:20260425T111209
CREATED:20210821T192138Z
LAST-MODIFIED:20210821T192138Z
UID:26270-1630195200-1630281599@staging.biblebaptistutica.org
SUMMARY:Baptist for Life - Report Sunday
DESCRIPTION:
URL:https://staging.biblebaptistutica.org/event/baptist-for-life-report-sunday/
END:VEVENT
BEGIN:VEVENT
DTSTART;VALUE=DATE:20210627
DTEND;VALUE=DATE:20210628
DTSTAMP:20260425T111209
CREATED:20210514T180438Z
LAST-MODIFIED:20210514T180438Z
UID:26221-1624752000-1624838399@staging.biblebaptistutica.org
SUMMARY:Missionary Sunday
DESCRIPTION:
URL:https://staging.biblebaptistutica.org/event/missionary-sunday-4/
END:VEVENT
BEGIN:VEVENT
DTSTART;VALUE=DATE:20210613
DTEND;VALUE=DATE:20210614
DTSTAMP:20260425T111209
CREATED:20210514T180356Z
LAST-MODIFIED:20210514T180356Z
UID:26219-1623542400-1623628799@staging.biblebaptistutica.org
SUMMARY:All Church Meeting
DESCRIPTION:
URL:https://staging.biblebaptistutica.org/event/all-church-meeting-3/
END:VEVENT
BEGIN:VEVENT
DTSTART;VALUE=DATE:20210609
DTEND;VALUE=DATE:20210610
DTSTAMP:20260425T111209
CREATED:20210514T180513Z
LAST-MODIFIED:20210514T180513Z
UID:26223-1623196800-1623283199@staging.biblebaptistutica.org
SUMMARY:Helpmates Bible Study/Meeting
DESCRIPTION:
URL:https://staging.biblebaptistutica.org/event/helpmates-bible-study-meeting/
END:VEVENT
BEGIN:VEVENT
DTSTART;VALUE=DATE:20210606
DTEND;VALUE=DATE:20210607
DTSTAMP:20260425T111209
CREATED:20210514T180319Z
LAST-MODIFIED:20210514T180319Z
UID:26217-1622937600-1623023999@staging.biblebaptistutica.org
SUMMARY:Missionary Sunday
DESCRIPTION:
URL:https://staging.biblebaptistutica.org/event/missionary-sunday-3/
END:VEVENT
BEGIN:VEVENT
DTSTART;VALUE=DATE:20210606
DTEND;VALUE=DATE:20210607
DTSTAMP:20260425T111209
CREATED:20210514T180131Z
LAST-MODIFIED:20210514T180131Z
UID:26215-1622937600-1623023999@staging.biblebaptistutica.org
SUMMARY:Sunday School Promotion Sunday
DESCRIPTION:
URL:https://staging.biblebaptistutica.org/event/sunday-school-promotion-sunday/
END:VEVENT
BEGIN:VEVENT
DTSTART;TZID=America/Chicago:20210605T080000
DTEND;TZID=America/Chicago:20210605T093000
DTSTAMP:20260425T111209
CREATED:20210514T180102Z
LAST-MODIFIED:20210514T180102Z
UID:26213-1622880000-1622885400@staging.biblebaptistutica.org
SUMMARY:Men's Prayer Breakfast
DESCRIPTION:
URL:https://staging.biblebaptistutica.org/event/mens-prayer-breakfast-2/
END:VEVENT
BEGIN:VEVENT
DTSTART;TZID=America/Chicago:20210512T190000
DTEND;TZID=America/Chicago:20210512T203000
DTSTAMP:20260425T111209
CREATED:20210215T204316Z
LAST-MODIFIED:20210215T204316Z
UID:26171-1620846000-1620851400@staging.biblebaptistutica.org
SUMMARY:Ladies Helpmates Bible Study/Meeting
DESCRIPTION:
URL:https://staging.biblebaptistutica.org/event/ladies-helpmates-bible-study-meeting-3/
END:VEVENT
END:VCALENDAR