BEGIN:VCALENDAR
VERSION:2.0
PRODID:-//Bible Baptist Church of Utica - ECPv6.8.3//NONSGML v1.0//EN
CALSCALE:GREGORIAN
METHOD:PUBLISH
X-WR-CALNAME:Bible Baptist Church of Utica
X-ORIGINAL-URL:https://staging.biblebaptistutica.org
X-WR-CALDESC:Events for Bible Baptist Church of Utica
REFRESH-INTERVAL;VALUE=DURATION:PT1H
X-Robots-Tag:noindex
X-PUBLISHED-TTL:PT1H
BEGIN:VTIMEZONE
TZID:America/Chicago
BEGIN:DAYLIGHT
TZOFFSETFROM:-0600
TZOFFSETTO:-0500
TZNAME:CDT
DTSTART:20230312T080000
END:DAYLIGHT
BEGIN:STANDARD
TZOFFSETFROM:-0500
TZOFFSETTO:-0600
TZNAME:CST
DTSTART:20231105T070000
END:STANDARD
END:VTIMEZONE
BEGIN:VEVENT
DTSTART;VALUE=DATE:20230910
DTEND;VALUE=DATE:20230911
DTSTAMP:20260425T093725
CREATED:20230619T154524Z
LAST-MODIFIED:20230619T154524Z
UID:26796-1694304000-1694390399@staging.biblebaptistutica.org
SUMMARY:Potluck & Annual Church Meeting/Ladies Helpmates Annual Meeting
DESCRIPTION:
URL:https://staging.biblebaptistutica.org/event/potluck-annual-church-meeting-ladies-helpmates-annual-meeting/
END:VEVENT
BEGIN:VEVENT
DTSTART;VALUE=DATE:20230903
DTEND;VALUE=DATE:20230904
DTSTAMP:20260425T093725
CREATED:20230619T154435Z
LAST-MODIFIED:20230619T154435Z
UID:26794-1693699200-1693785599@staging.biblebaptistutica.org
SUMMARY:Missionary Report Sunday
DESCRIPTION:
URL:https://staging.biblebaptistutica.org/event/missionary-report-sunday-4/
END:VEVENT
BEGIN:VEVENT
DTSTART;VALUE=DATE:20230813
DTEND;VALUE=DATE:20230814
DTSTAMP:20260425T093725
CREATED:20230619T155542Z
LAST-MODIFIED:20230619T155542Z
UID:26810-1691884800-1691971199@staging.biblebaptistutica.org
SUMMARY:Young Adult Gathering
DESCRIPTION:
URL:https://staging.biblebaptistutica.org/event/young-adult-gathering-3/
END:VEVENT
BEGIN:VEVENT
DTSTART;VALUE=DATE:20230813
DTEND;VALUE=DATE:20230814
DTSTAMP:20260425T093725
CREATED:20230619T154408Z
LAST-MODIFIED:20230619T154408Z
UID:26792-1691884800-1691971199@staging.biblebaptistutica.org
SUMMARY:Missionary Report Sunday
DESCRIPTION:
URL:https://staging.biblebaptistutica.org/event/missionary-report-sunday-3/
END:VEVENT
BEGIN:VEVENT
DTSTART;VALUE=DATE:20230806
DTEND;VALUE=DATE:20230807
DTSTAMP:20260425T093725
CREATED:20230619T154252Z
LAST-MODIFIED:20230619T154252Z
UID:26788-1691280000-1691366399@staging.biblebaptistutica.org
SUMMARY:All Church Picnic
DESCRIPTION:
URL:https://staging.biblebaptistutica.org/event/all-church-picnic/
LOCATION:Bible Baptist Church of Utica\, 2095 County Rd W\, Stoughton\, WI\, 53589
END:VEVENT
BEGIN:VEVENT
DTSTART;VALUE=DATE:20230730
DTEND;VALUE=DATE:20230731
DTSTAMP:20260425T093725
CREATED:20230619T154157Z
LAST-MODIFIED:20230619T154157Z
UID:26786-1690675200-1690761599@staging.biblebaptistutica.org
SUMMARY:Dr. David Teis - Special Speaker
DESCRIPTION:
URL:https://staging.biblebaptistutica.org/event/dr-david-teis-special-speaker/
END:VEVENT
BEGIN:VEVENT
DTSTART;VALUE=DATE:20230723
DTEND;VALUE=DATE:20230724
DTSTAMP:20260425T093725
CREATED:20230619T155517Z
LAST-MODIFIED:20230619T155517Z
UID:26808-1690070400-1690156799@staging.biblebaptistutica.org
SUMMARY:Young Adult Gathering
DESCRIPTION:
URL:https://staging.biblebaptistutica.org/event/young-adult-gathering-2/
END:VEVENT
BEGIN:VEVENT
DTSTART;TZID=America/Chicago:20230722T070000
DTEND;TZID=America/Chicago:20230722T083000
DTSTAMP:20260425T093725
CREATED:20230619T153950Z
LAST-MODIFIED:20230619T153950Z
UID:26780-1690009200-1690014600@staging.biblebaptistutica.org
SUMMARY:Men's Bible Study
DESCRIPTION:
URL:https://staging.biblebaptistutica.org/event/mens-bible-study-16/
LOCATION:Bible Baptist Church of Utica\, 2095 County Rd W\, Stoughton\, WI\, 53589
END:VEVENT
BEGIN:VEVENT
DTSTART;TZID=America/Chicago:20230709T180000
DTEND;TZID=America/Chicago:20230709T193000
DTSTAMP:20260425T093725
CREATED:20230619T154336Z
LAST-MODIFIED:20230619T154336Z
UID:26790-1688925600-1688931000@staging.biblebaptistutica.org
SUMMARY:Evening Fink Farm Sing Service
DESCRIPTION:
URL:https://staging.biblebaptistutica.org/event/evening-fink-farm-sing-service/
END:VEVENT
BEGIN:VEVENT
DTSTART;TZID=America/Chicago:20230708T070000
DTEND;TZID=America/Chicago:20230708T083000
DTSTAMP:20260425T093725
CREATED:20230619T153921Z
LAST-MODIFIED:20230619T153921Z
UID:26778-1688799600-1688805000@staging.biblebaptistutica.org
SUMMARY:Men's Bible Study
DESCRIPTION:
URL:https://staging.biblebaptistutica.org/event/mens-bible-study-15/
LOCATION:Bible Baptist Church of Utica\, 2095 County Rd W\, Stoughton\, WI\, 53589
END:VEVENT
BEGIN:VEVENT
DTSTART;TZID=America/Chicago:20230706T190000
DTEND;TZID=America/Chicago:20230706T210000
DTSTAMP:20260425T093725
CREATED:20230619T154113Z
LAST-MODIFIED:20230619T154113Z
UID:26784-1688670000-1688677200@staging.biblebaptistutica.org
SUMMARY:Ladies Book Club @ Oatsvall's House
DESCRIPTION:
URL:https://staging.biblebaptistutica.org/event/ladies-book-club-oatsvalls-house-2/
END:VEVENT
BEGIN:VEVENT
DTSTART;TZID=America/Chicago:20230625T180000
DTEND;TZID=America/Chicago:20230625T200000
DTSTAMP:20260425T093725
CREATED:20230619T155447Z
LAST-MODIFIED:20230619T155447Z
UID:26806-1687716000-1687723200@staging.biblebaptistutica.org
SUMMARY:Young Adult Gathering
DESCRIPTION:
URL:https://staging.biblebaptistutica.org/event/young-adult-gathering/
END:VEVENT
BEGIN:VEVENT
DTSTART;VALUE=DATE:20230625
DTEND;VALUE=DATE:20230626
DTSTAMP:20260425T093725
CREATED:20230619T153054Z
LAST-MODIFIED:20230619T153054Z
UID:26776-1687651200-1687737599@staging.biblebaptistutica.org
SUMMARY:Potluck & Quarterly Church Meeting
DESCRIPTION:
URL:https://staging.biblebaptistutica.org/event/potluck-quarterly-church-meeting/
END:VEVENT
BEGIN:VEVENT
DTSTART;TZID=America/Chicago:20230624T070000
DTEND;TZID=America/Chicago:20230624T083000
DTSTAMP:20260425T093725
CREATED:20230619T152830Z
LAST-MODIFIED:20230619T152830Z
UID:26774-1687590000-1687595400@staging.biblebaptistutica.org
SUMMARY:Men's Bible Study
DESCRIPTION:
URL:https://staging.biblebaptistutica.org/event/mens-bible-study-14/
END:VEVENT
BEGIN:VEVENT
DTSTART;TZID=America/Chicago:20230620T190000
DTEND;TZID=America/Chicago:20230620T210000
DTSTAMP:20260425T093725
CREATED:20230619T154036Z
LAST-MODIFIED:20230619T154036Z
UID:26782-1687287600-1687294800@staging.biblebaptistutica.org
SUMMARY:Ladies Book Club @ Oatsvall's House
DESCRIPTION:
URL:https://staging.biblebaptistutica.org/event/ladies-book-club-oatsvalls-house/
END:VEVENT
BEGIN:VEVENT
DTSTART;TZID=America/Chicago:20230527T073000
DTEND;TZID=America/Chicago:20230527T083000
DTSTAMP:20260425T093725
CREATED:20230509T151134Z
LAST-MODIFIED:20230509T151134Z
UID:26757-1685172600-1685176200@staging.biblebaptistutica.org
SUMMARY:Men's Bible Study
DESCRIPTION:
URL:https://staging.biblebaptistutica.org/event/mens-bible-study-13/
LOCATION:Bible Baptist Church of Utica\, 2095 County Rd W\, Stoughton\, WI\, 53589
END:VEVENT
BEGIN:VEVENT
DTSTART;TZID=America/Chicago:20230513T070000
DTEND;TZID=America/Chicago:20230513T083000
DTSTAMP:20260425T093725
CREATED:20230509T151031Z
LAST-MODIFIED:20230509T151031Z
UID:26755-1683961200-1683966600@staging.biblebaptistutica.org
SUMMARY:Men's Bible Study
DESCRIPTION:
URL:https://staging.biblebaptistutica.org/event/mens-bible-study-12/
LOCATION:Bible Baptist Church of Utica\, 2095 County Rd W\, Stoughton\, WI\, 53589
END:VEVENT
BEGIN:VEVENT
DTSTART;TZID=America/Chicago:20230422T070000
DTEND;TZID=America/Chicago:20230422T083000
DTSTAMP:20260425T093725
CREATED:20230313T135525Z
LAST-MODIFIED:20230313T135525Z
UID:26727-1682146800-1682152200@staging.biblebaptistutica.org
SUMMARY:Men's Bible Study
DESCRIPTION:
URL:https://staging.biblebaptistutica.org/event/mens-bible-study-11/
LOCATION:Bible Baptist Church of Utica\, 2095 County Rd W\, Stoughton\, WI\, 53589
END:VEVENT
BEGIN:VEVENT
DTSTART;TZID=America/Chicago:20230415T100000
DTEND;TZID=America/Chicago:20230415T120000
DTSTAMP:20260425T093725
CREATED:20230313T135609Z
LAST-MODIFIED:20230313T135609Z
UID:26729-1681552800-1681560000@staging.biblebaptistutica.org
SUMMARY:Young Adult Ladies Brunch
DESCRIPTION:
URL:https://staging.biblebaptistutica.org/event/young-adult-ladies-brunch-2/
END:VEVENT
BEGIN:VEVENT
DTSTART;TZID=America/Chicago:20230408T070000
DTEND;TZID=America/Chicago:20230408T083000
DTSTAMP:20260425T093725
CREATED:20230313T135404Z
LAST-MODIFIED:20230313T135404Z
UID:26723-1680937200-1680942600@staging.biblebaptistutica.org
SUMMARY:Men's Bible Study
DESCRIPTION:
URL:https://staging.biblebaptistutica.org/event/mens-bible-study-10/
LOCATION:Bible Baptist Church of Utica\, 2095 County Rd W\, Stoughton\, WI\, 53589
END:VEVENT
BEGIN:VEVENT
DTSTART;VALUE=DATE:20230331
DTEND;VALUE=DATE:20230402
DTSTAMP:20260425T093725
CREATED:20230213T202755Z
LAST-MODIFIED:20230213T202755Z
UID:26709-1680220800-1680393599@staging.biblebaptistutica.org
SUMMARY:WFBC Ladies Retreat
DESCRIPTION:
URL:https://staging.biblebaptistutica.org/event/wfbc-ladies-retreat-2/
LOCATION:Green Lake Conference Center\, W2511 WI-23\, Green Lake\, WI\, 54941\, United States
END:VEVENT
BEGIN:VEVENT
DTSTART;TZID=America/Chicago:20230325T180000
DTEND;TZID=America/Chicago:20230325T210000
DTSTAMP:20260425T093725
CREATED:20230313T135446Z
LAST-MODIFIED:20230313T135446Z
UID:26725-1679767200-1679778000@staging.biblebaptistutica.org
SUMMARY:Teen Activity - Game Night
DESCRIPTION:
URL:https://staging.biblebaptistutica.org/event/teen-activity-game-night/
END:VEVENT
BEGIN:VEVENT
DTSTART;TZID=America/Chicago:20230325T070000
DTEND;TZID=America/Chicago:20230325T083000
DTSTAMP:20260425T093725
CREATED:20230213T201434Z
LAST-MODIFIED:20230213T201434Z
UID:26706-1679727600-1679733000@staging.biblebaptistutica.org
SUMMARY:Men's Bible Study
DESCRIPTION:
URL:https://staging.biblebaptistutica.org/event/mens-bible-study-9/
LOCATION:Bible Baptist Church of Utica\, 2095 County Rd W\, Stoughton\, WI\, 53589
END:VEVENT
BEGIN:VEVENT
DTSTART;TZID=America/Chicago:20230312T113000
DTEND;TZID=America/Chicago:20230312T133000
DTSTAMP:20260425T093725
CREATED:20230111T202558Z
LAST-MODIFIED:20230111T202558Z
UID:26678-1678620600-1678627800@staging.biblebaptistutica.org
SUMMARY:Quarterly Church Potluck and Meeting
DESCRIPTION:
URL:https://staging.biblebaptistutica.org/event/quarterly-church-potluck-and-meeting/
END:VEVENT
BEGIN:VEVENT
DTSTART;VALUE=DATE:20230312
DTEND;VALUE=DATE:20230313
DTSTAMP:20260425T093725
CREATED:20230213T201346Z
LAST-MODIFIED:20230213T201346Z
UID:26704-1678579200-1678665599@staging.biblebaptistutica.org
SUMMARY:Quarterly Potluck/Church Meeting
DESCRIPTION:
URL:https://staging.biblebaptistutica.org/event/quarterly-potluck-church-meeting/
END:VEVENT
BEGIN:VEVENT
DTSTART;TZID=America/Chicago:20230311T073000
DTEND;TZID=America/Chicago:20230311T083000
DTSTAMP:20260425T093725
CREATED:20230213T201311Z
LAST-MODIFIED:20230213T201311Z
UID:26702-1678519800-1678523400@staging.biblebaptistutica.org
SUMMARY:Men's Bible Study
DESCRIPTION:
URL:https://staging.biblebaptistutica.org/event/mens-bible-study-8/
LOCATION:Bible Baptist Church of Utica\, 2095 County Rd W\, Stoughton\, WI\, 53589
END:VEVENT
BEGIN:VEVENT
DTSTART;TZID=America/Chicago:20230225T090000
DTEND;TZID=America/Chicago:20230225T150000
DTSTAMP:20260425T093725
CREATED:20230213T201127Z
LAST-MODIFIED:20230213T201127Z
UID:26698-1677315600-1677337200@staging.biblebaptistutica.org
SUMMARY:Youth Conference
DESCRIPTION:
URL:https://staging.biblebaptistutica.org/event/youth-conference/
LOCATION:Calvary Baptist Church – Watertown\, 792 Milford St\, Watertown\, WI\, 53094\, United States
END:VEVENT
BEGIN:VEVENT
DTSTART;TZID=America/Chicago:20230225T070000
DTEND;TZID=America/Chicago:20230225T083000
DTSTAMP:20260425T093725
CREATED:20230213T201225Z
LAST-MODIFIED:20230213T201225Z
UID:26700-1677308400-1677313800@staging.biblebaptistutica.org
SUMMARY:Men's Bible Study
DESCRIPTION:
URL:https://staging.biblebaptistutica.org/event/mens-bible-study-7/
LOCATION:Bible Baptist Church of Utica\, 2095 County Rd W\, Stoughton\, WI\, 53589
END:VEVENT
BEGIN:VEVENT
DTSTART;TZID=America/Chicago:20230218T100000
DTEND;TZID=America/Chicago:20230218T120000
DTSTAMP:20260425T093725
CREATED:20230213T201043Z
LAST-MODIFIED:20230213T201043Z
UID:26696-1676714400-1676721600@staging.biblebaptistutica.org
SUMMARY:Young Adult Ladies Brunch
DESCRIPTION:
URL:https://staging.biblebaptistutica.org/event/young-adult-ladies-brunch/
END:VEVENT
BEGIN:VEVENT
DTSTART;TZID=America/Chicago:20230212T180000
DTEND;TZID=America/Chicago:20230212T200000
DTSTAMP:20260425T093725
CREATED:20230111T201810Z
LAST-MODIFIED:20230111T201810Z
UID:26676-1676224800-1676232000@staging.biblebaptistutica.org
SUMMARY:Valentine's Banquet
DESCRIPTION:Special Speaker: Gary Holloway
URL:https://staging.biblebaptistutica.org/event/valentines-banquet/
LOCATION:Bible Baptist Church of Utica\, 2095 County Rd W\, Stoughton\, WI\, 53589
END:VEVENT
END:VCALENDAR