BEGIN:VCALENDAR
VERSION:2.0
PRODID:-//Bible Baptist Church of Utica - ECPv6.8.3//NONSGML v1.0//EN
CALSCALE:GREGORIAN
METHOD:PUBLISH
X-WR-CALNAME:Bible Baptist Church of Utica
X-ORIGINAL-URL:https://staging.biblebaptistutica.org
X-WR-CALDESC:Events for Bible Baptist Church of Utica
REFRESH-INTERVAL;VALUE=DURATION:PT1H
X-Robots-Tag:noindex
X-PUBLISHED-TTL:PT1H
BEGIN:VTIMEZONE
TZID:America/Chicago
BEGIN:DAYLIGHT
TZOFFSETFROM:-0600
TZOFFSETTO:-0500
TZNAME:CDT
DTSTART:20190310T080000
END:DAYLIGHT
BEGIN:STANDARD
TZOFFSETFROM:-0500
TZOFFSETTO:-0600
TZNAME:CST
DTSTART:20191103T070000
END:STANDARD
BEGIN:DAYLIGHT
TZOFFSETFROM:-0600
TZOFFSETTO:-0500
TZNAME:CDT
DTSTART:20200308T080000
END:DAYLIGHT
BEGIN:STANDARD
TZOFFSETFROM:-0500
TZOFFSETTO:-0600
TZNAME:CST
DTSTART:20201101T070000
END:STANDARD
END:VTIMEZONE
BEGIN:VEVENT
DTSTART;VALUE=DATE:20201206
DTEND;VALUE=DATE:20201207
DTSTAMP:20260425T191234
CREATED:20201111T174629Z
LAST-MODIFIED:20201111T174629Z
UID:26104-1607212800-1607299199@staging.biblebaptistutica.org
SUMMARY:All Church Meeting
DESCRIPTION:
URL:https://staging.biblebaptistutica.org/event/all-church-meeting/
LOCATION:WI
END:VEVENT
BEGIN:VEVENT
DTSTART;TZID=America/Chicago:20201124T190000
DTEND;TZID=America/Chicago:20201124T210000
DTSTAMP:20260425T191234
CREATED:20201111T174600Z
LAST-MODIFIED:20201111T174600Z
UID:26102-1606244400-1606251600@staging.biblebaptistutica.org
SUMMARY:Praise & Pie Fellowship
DESCRIPTION:Come for an evening of Praise followed by a pie fellowship.  Bring a pie to pass!
URL:https://staging.biblebaptistutica.org/event/praise-pie-fellowship/
LOCATION:Bible Baptist Church of Utica\, 2095 County Rd W\, Stoughton\, WI\, 53589
END:VEVENT
BEGIN:VEVENT
DTSTART;TZID=America/Chicago:20200815T080000
DTEND;TZID=America/Chicago:20200815T120000
DTSTAMP:20260425T191234
CREATED:20200710T155634Z
LAST-MODIFIED:20200710T155634Z
UID:25988-1597478400-1597492800@staging.biblebaptistutica.org
SUMMARY:All Church Cleaning Day
DESCRIPTION:
URL:https://staging.biblebaptistutica.org/event/all-church-cleaning-day/
LOCATION:WI
END:VEVENT
BEGIN:VEVENT
DTSTART;VALUE=DATE:20200812
DTEND;VALUE=DATE:20200813
DTSTAMP:20260425T191234
CREATED:20200710T155537Z
LAST-MODIFIED:20200710T155537Z
UID:25986-1597190400-1597276799@staging.biblebaptistutica.org
SUMMARY:All Church Cleaning Day - 7 pm
DESCRIPTION:
URL:https://staging.biblebaptistutica.org/event/all-church-cleaning-day-7-pm/
LOCATION:WI
END:VEVENT
BEGIN:VEVENT
DTSTART;TZID=America/Chicago:20200808T080000
DTEND;TZID=America/Chicago:20200808T140000
DTSTAMP:20260425T191234
CREATED:20200710T155424Z
LAST-MODIFIED:20200710T155424Z
UID:25984-1596873600-1596895200@staging.biblebaptistutica.org
SUMMARY:Outside Beautification Day
DESCRIPTION:
URL:https://staging.biblebaptistutica.org/event/outside-beautification-day/
LOCATION:WI
END:VEVENT
BEGIN:VEVENT
DTSTART;VALUE=DATE:20200727
DTEND;VALUE=DATE:20200802
DTSTAMP:20260425T191234
CREATED:20200710T155243Z
LAST-MODIFIED:20200710T155243Z
UID:25981-1595808000-1596326399@staging.biblebaptistutica.org
SUMMARY:Teen Camp - Camp Joy
DESCRIPTION:
URL:https://staging.biblebaptistutica.org/event/teen-camp-camp-joy/
LOCATION:Camp Joy – Whitewater\, Whitewater\, WI\, 53190\, United States
END:VEVENT
BEGIN:VEVENT
DTSTART;VALUE=DATE:20200726
DTEND;VALUE=DATE:20200727
DTSTAMP:20260425T191234
CREATED:20200710T155038Z
LAST-MODIFIED:20200710T155038Z
UID:25979-1595721600-1595807999@staging.biblebaptistutica.org
SUMMARY:Teen Activity - 6 pm at the Church
DESCRIPTION:
URL:https://staging.biblebaptistutica.org/event/teen-activity-6-pm-at-the-church/
LOCATION:WI
END:VEVENT
BEGIN:VEVENT
DTSTART;VALUE=DATE:20200322
DTEND;VALUE=DATE:20200323
DTSTAMP:20260425T191234
CREATED:20200210T170853Z
LAST-MODIFIED:20200210T170853Z
UID:25850-1584835200-1584921599@staging.biblebaptistutica.org
SUMMARY:NO Sunday Evening Church
DESCRIPTION:
URL:https://staging.biblebaptistutica.org/event/no-sunday-evening-church/
LOCATION:WI
END:VEVENT
BEGIN:VEVENT
DTSTART;VALUE=DATE:20200321
DTEND;VALUE=DATE:20200323
DTSTAMP:20260425T191234
CREATED:20191213T165124Z
LAST-MODIFIED:20200316T025215Z
UID:25785-1584748800-1584921599@staging.biblebaptistutica.org
SUMMARY:Family Life Conference - Postponed to a later date
DESCRIPTION:Pastor Matt and Breanna Teis live in Las Vegas\, Nevada with their four children\, 3 girls and a boy.  Since graduating from Pensacola Christian College in 2000\, Matt has led the youth ministry\, young adult ministry and outreach programs of Liberty Baptist Church.  Matt and his wife Breanna were married in 2002 and together have spoken at many family conferences across the nation.  Pastor Matt currently serves as the Executive Pastor at Liberty Baptist Church in Las Vegas\, Nevada. \nSaturday Schedule:\n1st Session – 2 pm – 3 pm\n2nd Session – 3:30 pm – 4:30 pm \nSunday Schedule:\n3rd Session – 9 am – 10 am\n4th Session – 10:15 am – 11:30 am \nChild Care will be provided.
URL:https://staging.biblebaptistutica.org/event/family-life-conference/
LOCATION:Bible Baptist Church of Utica\, 2095 County Rd W\, Stoughton\, WI\, 53589
END:VEVENT
BEGIN:VEVENT
DTSTART;VALUE=DATE:20200308
DTEND;VALUE=DATE:20200309
DTSTAMP:20260425T191234
CREATED:20200120T144252Z
LAST-MODIFIED:20200120T144252Z
UID:25830-1583625600-1583711999@staging.biblebaptistutica.org
SUMMARY:Quarterly Church Meeting
DESCRIPTION:
URL:https://staging.biblebaptistutica.org/event/quarterly-church-meeting/
LOCATION:WI
END:VEVENT
BEGIN:VEVENT
DTSTART;VALUE=DATE:20200308
DTEND;VALUE=DATE:20200309
DTSTAMP:20260425T191234
CREATED:20200120T144201Z
LAST-MODIFIED:20200120T144201Z
UID:25828-1583625600-1583711999@staging.biblebaptistutica.org
SUMMARY:Aaron Wilson - Camp CoBeAc
DESCRIPTION:
URL:https://staging.biblebaptistutica.org/event/aaron-wilson-camp-cobeac/
LOCATION:WI
END:VEVENT
BEGIN:VEVENT
DTSTART;TZID=America/Chicago:20200229T090000
DTEND;TZID=America/Chicago:20200229T163000
DTSTAMP:20260425T191234
CREATED:20200120T144032Z
LAST-MODIFIED:20200120T144032Z
UID:25824-1582966800-1582993800@staging.biblebaptistutica.org
SUMMARY:Teen Activity
DESCRIPTION:Wisconsin State Youth Conference – Rand Hummel – Keynote Speaker
URL:https://staging.biblebaptistutica.org/event/teen-activity/
LOCATION:Calvary Baptist Church – Watertown\, 792 Milford St\, Watertown\, WI\, 53094\, United States
END:VEVENT
BEGIN:VEVENT
DTSTART;VALUE=DATE:20200209
DTEND;VALUE=DATE:20200210
DTSTAMP:20260425T191234
CREATED:20191031T215821Z
LAST-MODIFIED:20191031T215821Z
UID:25742-1581206400-1581292799@staging.biblebaptistutica.org
SUMMARY:Missionary Report Sunday
DESCRIPTION:
URL:https://staging.biblebaptistutica.org/event/missionary-report-sunday-2/
LOCATION:WI
END:VEVENT
BEGIN:VEVENT
DTSTART;VALUE=DATE:20200202
DTEND;VALUE=DATE:20200203
DTSTAMP:20260425T191234
CREATED:20200120T143719Z
LAST-MODIFIED:20200120T143719Z
UID:25822-1580601600-1580687999@staging.biblebaptistutica.org
SUMMARY:Stephen Wooley - PM Service
DESCRIPTION:
URL:https://staging.biblebaptistutica.org/event/stephen-wooley-pm-service-2/
LOCATION:WI
END:VEVENT
BEGIN:VEVENT
DTSTART;VALUE=DATE:20200112
DTEND;VALUE=DATE:20200113
DTSTAMP:20260425T191234
CREATED:20191211T173317Z
LAST-MODIFIED:20191211T173317Z
UID:25782-1578787200-1578873599@staging.biblebaptistutica.org
SUMMARY:Young Adult Fellowship
DESCRIPTION:
URL:https://staging.biblebaptistutica.org/event/young-adult-fellowship-6/
LOCATION:Kim Fink House\, Fort Atkinson\, WI\, 53538\, United States
END:VEVENT
BEGIN:VEVENT
DTSTART;VALUE=DATE:20200112
DTEND;VALUE=DATE:20200113
DTSTAMP:20260425T191234
CREATED:20191015T151444Z
LAST-MODIFIED:20191015T151444Z
UID:25717-1578787200-1578873599@staging.biblebaptistutica.org
SUMMARY:Missionary Report Sunday
DESCRIPTION:
URL:https://staging.biblebaptistutica.org/event/missionary-report-sunday/
LOCATION:WI
END:VEVENT
BEGIN:VEVENT
DTSTART;VALUE=DATE:20200101
DTEND;VALUE=DATE:20200102
DTSTAMP:20260425T191234
CREATED:20191031T220307Z
LAST-MODIFIED:20191031T220307Z
UID:25746-1577836800-1577923199@staging.biblebaptistutica.org
SUMMARY:No Wednesday Night Service
DESCRIPTION:
URL:https://staging.biblebaptistutica.org/event/no-wednesday-night-service-2/
LOCATION:WI
END:VEVENT
BEGIN:VEVENT
DTSTART;VALUE=DATE:20191225
DTEND;VALUE=DATE:20191226
DTSTAMP:20260425T191234
CREATED:20191031T220205Z
LAST-MODIFIED:20191031T220205Z
UID:25744-1577232000-1577318399@staging.biblebaptistutica.org
SUMMARY:No Wednesday Night Service
DESCRIPTION:
URL:https://staging.biblebaptistutica.org/event/no-wednesday-night-service/
LOCATION:WI
END:VEVENT
BEGIN:VEVENT
DTSTART;TZID=America/Chicago:20191215T170000
DTEND;TZID=America/Chicago:20191215T200000
DTSTAMP:20260425T191234
CREATED:20191031T215715Z
LAST-MODIFIED:20191031T215715Z
UID:25740-1576429200-1576440000@staging.biblebaptistutica.org
SUMMARY:Adult White Elephant Party
DESCRIPTION:There will be no evening service on this day.
URL:https://staging.biblebaptistutica.org/event/adult-white-elephant-party/
LOCATION:Kim Fink House\, Fort Atkinson\, WI\, 53538\, United States
END:VEVENT
BEGIN:VEVENT
DTSTART;TZID=America/Chicago:20191126T190000
DTEND;TZID=America/Chicago:20191126T203000
DTSTAMP:20260425T191234
CREATED:20191031T215551Z
LAST-MODIFIED:20191031T215551Z
UID:25738-1574794800-1574800200@staging.biblebaptistutica.org
SUMMARY:Thanksgiving Pie Fellowship
DESCRIPTION:
URL:https://staging.biblebaptistutica.org/event/thanksgiving-pie-fellowship/
LOCATION:WI
END:VEVENT
BEGIN:VEVENT
DTSTART;VALUE=DATE:20191117
DTEND;VALUE=DATE:20191118
DTSTAMP:20260425T191234
CREATED:20190722T010133Z
LAST-MODIFIED:20190722T010133Z
UID:25627-1573948800-1574035199@staging.biblebaptistutica.org
SUMMARY:Missionary Sunday
DESCRIPTION:
URL:https://staging.biblebaptistutica.org/event/missionary-sunday/
LOCATION:WI
END:VEVENT
BEGIN:VEVENT
DTSTART;VALUE=DATE:20191110
DTEND;VALUE=DATE:20191111
DTSTAMP:20260425T191234
CREATED:20191031T215401Z
LAST-MODIFIED:20191031T215401Z
UID:25736-1573344000-1573430399@staging.biblebaptistutica.org
SUMMARY:Young Adult Fellowship
DESCRIPTION:
URL:https://staging.biblebaptistutica.org/event/young-adult-fellowship-5/
LOCATION:Kim Fink House\, Fort Atkinson\, WI\, 53538\, United States
END:VEVENT
BEGIN:VEVENT
DTSTART;VALUE=DATE:20191110
DTEND;VALUE=DATE:20191111
DTSTAMP:20260425T191234
CREATED:20190918T184515Z
LAST-MODIFIED:20190918T184515Z
UID:25668-1573344000-1573430399@staging.biblebaptistutica.org
SUMMARY:Missionary Sunday School
DESCRIPTION:
URL:https://staging.biblebaptistutica.org/event/missionary-sunday-school/
LOCATION:WI
END:VEVENT
BEGIN:VEVENT
DTSTART;TZID=America/Chicago:20191103T170000
DTEND;TZID=America/Chicago:20191103T200000
DTSTAMP:20260425T191234
CREATED:20190918T185325Z
LAST-MODIFIED:20191003T142910Z
UID:25682-1572800400-1572811200@staging.biblebaptistutica.org
SUMMARY:Church Fun Night at John Kutz's
DESCRIPTION:
URL:https://staging.biblebaptistutica.org/event/church-fun-night-at-john-kutzs/
LOCATION:WI
END:VEVENT
BEGIN:VEVENT
DTSTART;VALUE=DATE:20191103
DTEND;VALUE=DATE:20191104
DTSTAMP:20260425T191234
CREATED:20191015T151345Z
LAST-MODIFIED:20191015T151345Z
UID:25715-1572739200-1572825599@staging.biblebaptistutica.org
SUMMARY:Matt Williams - SS Hour
DESCRIPTION:
URL:https://staging.biblebaptistutica.org/event/matt-williams-ss-hour/
LOCATION:WI
END:VEVENT
BEGIN:VEVENT
DTSTART;VALUE=DATE:20191027
DTEND;VALUE=DATE:20191028
DTSTAMP:20260425T191234
CREATED:20191015T151211Z
LAST-MODIFIED:20191015T151211Z
UID:25713-1572134400-1572220799@staging.biblebaptistutica.org
SUMMARY:Stephen Wooley - PM Service
DESCRIPTION:
URL:https://staging.biblebaptistutica.org/event/stephen-wooley-pm-service/
LOCATION:WI
END:VEVENT
BEGIN:VEVENT
DTSTART;TZID=America/Chicago:20191012T180000
DTEND;TZID=America/Chicago:20191012T210000
DTSTAMP:20260425T191234
CREATED:20190930T122953Z
LAST-MODIFIED:20190930T123022Z
UID:25700-1570903200-1570914000@staging.biblebaptistutica.org
SUMMARY:Teen/Young Adult Corn Maze Activity
DESCRIPTION:
URL:https://staging.biblebaptistutica.org/event/teeen-young-adult-corn-maze-activity/
LOCATION:Schuster\, 1326 US-12\, Deerfield\, WI\, 53531\, United States
END:VEVENT
BEGIN:VEVENT
DTSTART;TZID=America/Chicago:20191011T180000
DTEND;TZID=America/Chicago:20191011T210000
DTSTAMP:20260425T191234
CREATED:20190918T184950Z
LAST-MODIFIED:20190918T184950Z
UID:25676-1570816800-1570827600@staging.biblebaptistutica.org
SUMMARY:Ladies Game Night
DESCRIPTION:
URL:https://staging.biblebaptistutica.org/event/ladies-game-night/
LOCATION:WI
END:VEVENT
BEGIN:VEVENT
DTSTART;VALUE=DATE:20191009
DTEND;VALUE=DATE:20191010
DTSTAMP:20260425T191234
CREATED:20190918T184903Z
LAST-MODIFIED:20190918T184903Z
UID:25674-1570579200-1570665599@staging.biblebaptistutica.org
SUMMARY:Monthly Business Meetings
DESCRIPTION:
URL:https://staging.biblebaptistutica.org/event/monthly-business-meetings/
LOCATION:WI
END:VEVENT
BEGIN:VEVENT
DTSTART;TZID=America/Chicago:20191006T153000
DTEND;TZID=America/Chicago:20191006T173000
DTSTAMP:20260425T191234
CREATED:20190918T184814Z
LAST-MODIFIED:20190918T184814Z
UID:25672-1570375800-1570383000@staging.biblebaptistutica.org
SUMMARY:Bridal Shower for Grace
DESCRIPTION:
URL:https://staging.biblebaptistutica.org/event/bridal-shower-for-grace/
LOCATION:Bible Baptist Church of Utica\, 2095 County Rd W\, Stoughton\, WI\, 53589
END:VEVENT
END:VCALENDAR